BEGIN:VCALENDAR
VERSION:2.0
PRODID:-//ChamberMaster//Event Calendar 2.0//EN
METHOD:PUBLISH
X-PUBLISHED-TTL:P1H
REFRESH-INTERVAL:P1H
CALSCALE:GREGORIAN
BEGIN:VTIMEZONE
TZID:America/New_York
BEGIN:DAYLIGHT
RRULE:FREQ=YEARLY;BYMONTH=3;BYDAY=2SU
DTSTART:20070101T000000
TZOFFSETFROM:-0500
TZOFFSETTO:-0400
TZNAME:Eastern Daylight Time
END:DAYLIGHT
BEGIN:STANDARD
RRULE:FREQ=YEARLY;BYMONTH=11;BYDAY=1SU
DTSTART:20070101T000000
TZOFFSETFROM:-0400
TZOFFSETTO:-0500
TZNAME:Eastern Standard Time
END:STANDARD
END:VTIMEZONE
BEGIN:VEVENT
DTSTART;TZID=America/New_York:20260603T093000
DTEND;TZID=America/New_York:20260603T150000
X-MICROSOFT-CDO-ALLDAYEVENT:FALSE
SUMMARY:22nd Annual Golf Tournament
DESCRIPTION:1st- and 2nd-place team prizes\, closest-to-the-pin contest\, and raffles.Buffet luncheon to be served after the tournament.All proceeds will be donated to housing-related organizations within the RASEM region.
X-ALT-DESC;FMTTYPE=text/html:<!DOCTYPE html><html><head><title></title></head><body aria-disabled="false" spellcheck="false"><p><span style="font-size: 18px\;">1st- and 2nd-place team prizes\, closest-to-the-pin<span style="font-size: 18px\;"><span style="font-size: 18px\;"><span style="font-size: 18px\;">&nbsp\;contest\, and raffles.</span></span></span></span></p><p><span style="font-size: 18px\;"><span style="font-size: 18px\;"><span style="font-size: 18px\;"><span style="font-size: 18px\;">Buffet luncheon to be served after the tournament.</span></span></span></span></p><p><span style="font-size: 18px\;">All proceeds will be donated to housing-related organizations within the RASEM region.</span></p></body></html>
LOCATION:17 Heritage Hill Drive Lakeville MA 02347
UID:e.2512.1450094
SEQUENCE:3
DTSTAMP:20260424T192621Z
URL:https://members.rasem.realtor/event-calendar/Details/22nd-annual-golf-tournament-1717675?sourceTypeId=Hub
END:VEVENT
END:VCALENDAR
