BEGIN:VCALENDAR
VERSION:2.0
PRODID:-//ChamberMaster//Event Calendar 2.0//EN
METHOD:PUBLISH
X-PUBLISHED-TTL:P1H
REFRESH-INTERVAL:P1H
CALSCALE:GREGORIAN
BEGIN:VTIMEZONE
TZID:America/New_York
BEGIN:DAYLIGHT
RRULE:FREQ=YEARLY;BYMONTH=3;BYDAY=2SU
DTSTART:20070101T000000
TZOFFSETFROM:-0500
TZOFFSETTO:-0400
TZNAME:Eastern Daylight Time
END:DAYLIGHT
BEGIN:STANDARD
RRULE:FREQ=YEARLY;BYMONTH=11;BYDAY=1SU
DTSTART:20070101T000000
TZOFFSETFROM:-0400
TZOFFSETTO:-0500
TZNAME:Eastern Standard Time
END:STANDARD
END:VTIMEZONE
BEGIN:VEVENT
DTSTART;TZID=America/New_York:20260429T000000
DTEND;TZID=America/New_York:20260507T000000
X-MICROSOFT-CDO-ALLDAYEVENT:FALSE
SUMMARY:GRI 201: Tools of the Trade (CE-8)
DESCRIPTION:What You'll Learn: Apply the REALTOR  Code of Ethics and professional standards in daily practiceStrengthen negotiation skills and effectively use mandatory and optional formsManage complex transaction scenarios\, including multiple offersUnderstand financing options and help clients navigate the mortgage process Earn 8 CE Credits upon completion:RE33RC11: Real Estate Brokerage Professional Ethics for Residential and Commercial Real Estate Brokerage RE25RC08: Financing RE47R25: Residential Mortgage Loan Market and Credit Today RE39R20: Commonly Used Forms: Mandatory/Optional  Instructors: Kimberly AllardNelson Zide Format: Virtual (via Zoom) Dates & Times: April 29\, 2026 | 9:00 AM   1:15 PM EST with Kimberly AllardApril 30\, 2026 | 9:00 AM   1:15 PM EST with Kimberly AllardMay 6\, 2026 | 9:00 AM   1:15 PM EST with Kimberly AllardMay 7\, 2026 | 9:00 AM   1:15 PM EST with Nelson Zide About the Graduate\, REALTOR  Institute (GRI):\nIncrease your value as a REALTOR  with the Graduate REALTOR  Institute (GRI) Designation Program. This six-course program is designed to help you gain in-depth knowledge of the fundamentals of real estate. Current GRI designees can take courses at a 50% discount.  Registration Information:\nA Zoom link will be sent to registered participants before the class begins.  \nMember Registration: $250
X-ALT-DESC;FMTTYPE=text/html:<!DOCTYPE html><html><head><title></title></head><body aria-disabled="false"><div style='margin: 0px\; box-sizing: border-box\; color: rgb(0\, 0\, 0)\; font-family: "Source Sans 3"\, serif\; font-size: 14px\; font-style: normal\; font-variant-ligatures: normal\; font-variant-caps: normal\; font-weight: 400\; letter-spacing: normal\; orphans: 2\; text-align: start\; text-indent: 0px\; text-transform: none\; widows: 2\; word-spacing: 0px\; -webkit-text-stroke-width: 0px\; white-space: normal\; background-color: rgb(255\, 255\, 255)\; text-decoration-thickness: initial\; text-decoration-style: initial\; text-decoration-color: initial\;'><span style="margin: 0px\; box-sizing: border-box\; color: rgb(50\, 156\, 114)\; font-size: 18px\; font-family: Inter\, sans-serif\;"><strong fr-original-style="margin: 0px\; box-sizing: border-box\;" style="margin: 0px\; box-sizing: border-box\; font-weight: 700\;">What You&rsquo\;ll Learn:&nbsp\;</strong></span></div><div data-end="625" data-start="529" style='margin: 0px\; box-sizing: border-box\; word-break: break-word\; color: rgb(0\, 0\, 0)\; font-family: "Source Sans 3"\, serif\; font-size: 14px\; font-style: normal\; font-variant-ligatures: normal\; font-variant-caps: normal\; font-weight: 400\; letter-spacing: normal\; orphans: 2\; text-align: start\; text-indent: 0px\; text-transform: none\; widows: 2\; word-spacing: 0px\; -webkit-text-stroke-width: 0px\; white-space: normal\; background-color: rgb(255\, 255\, 255)\; text-decoration-thickness: initial\; text-decoration-style: initial\; text-decoration-color: initial\;'><ul fr-original-style="margin: 5px 0px\; box-sizing: border-box\; list-style-position: initial\; list-style-image: initial\; list-style-type: inherit\; padding: 0px 0px 0px 40px\;" style="margin: 5px 0px\; box-sizing: border-box\; list-style-position: initial\; list-style-image: initial\; list-style-type: inherit\; padding: 0px 0px 0px 40px\;"><li data-end="298" data-start="216" style="margin: 0px\; box-sizing: border-box\; font-size: 18px\;"><div data-end="298" data-start="218" style="margin: 0px\; box-sizing: border-box\; word-break: break-word\;">Apply the REALTOR&reg\; Code of Ethics and professional standards in daily practice</div></li><li data-end="381" data-start="299" style="margin: 0px\; box-sizing: border-box\; font-size: 18px\;"><div data-end="381" data-start="301" style="margin: 0px\; box-sizing: border-box\; word-break: break-word\;">Strengthen negotiation skills and effectively use mandatory and optional forms</div></li><li data-end="449" data-start="382" style="margin: 0px\; box-sizing: border-box\; font-size: 18px\;"><div data-end="449" data-start="384" style="margin: 0px\; box-sizing: border-box\; word-break: break-word\;">Manage complex transaction scenarios\, including multiple offers</div></li><li data-end="529" data-start="450" style="margin: 0px\; box-sizing: border-box\; font-size: 18px\;"><div data-end="529" data-start="452" style="margin: 0px\; box-sizing: border-box\; word-break: break-word\;">Understand financing options and help clients navigate the mortgage process</div></li></ul></div><div style='margin: 0px\; box-sizing: border-box\; word-break: break-word\; color: rgb(0\, 0\, 0)\; font-family: "Source Sans 3"\, serif\; font-size: 14px\; font-style: normal\; font-variant-ligatures: normal\; font-variant-caps: normal\; font-weight: 400\; letter-spacing: normal\; orphans: 2\; text-align: start\; text-indent: 0px\; text-transform: none\; widows: 2\; word-spacing: 0px\; -webkit-text-stroke-width: 0px\; white-space: normal\; background-color: rgb(255\, 255\, 255)\; text-decoration-thickness: initial\; text-decoration-style: initial\; text-decoration-color: initial\;'><span style="font-size: 18px\;">&nbsp\;</span></div><div style='margin: 0px\; box-sizing: border-box\; word-break: break-word\; color: rgb(0\, 0\, 0)\; font-family: "Source Sans 3"\, serif\; font-size: 14px\; font-style: normal\; font-variant-ligatures: normal\; font-variant-caps: normal\; font-weight: 400\; letter-spacing: normal\; orphans: 2\; text-align: start\; text-indent: 0px\; text-transform: none\; widows: 2\; word-spacing: 0px\; -webkit-text-stroke-width: 0px\; white-space: normal\; background-color: rgb(255\, 255\, 255)\; text-decoration-thickness: initial\; text-decoration-style: initial\; text-decoration-color: initial\;'><span style="font-size: 18px\;"><span style="margin: 0px\; box-sizing: border-box\; color: rgb(50\, 156\, 114)\; font-family: Inter\, sans-serif\;"><strong fr-original-style="margin: 0px\; box-sizing: border-box\;" style="margin: 0px\; box-sizing: border-box\; font-weight: 700\;">Earn 8 CE Credits upon completion:</strong></span></span></div><div style='margin: 0px\; box-sizing: border-box\; word-break: break-word\; color: rgb(0\, 0\, 0)\; font-family: "Source Sans 3"\, serif\; font-size: 14px\; font-style: normal\; font-variant-ligatures: normal\; font-variant-caps: normal\; font-weight: 400\; letter-spacing: normal\; orphans: 2\; text-align: start\; text-indent: 0px\; text-transform: none\; widows: 2\; word-spacing: 0px\; -webkit-text-stroke-width: 0px\; white-space: normal\; background-color: rgb(255\, 255\, 255)\; text-decoration-thickness: initial\; text-decoration-style: initial\; text-decoration-color: initial\;'><ul fr-original-style="margin: 5px 0px\; box-sizing: border-box\; list-style-position: initial\; list-style-image: initial\; list-style-type: inherit\; padding: 0px 0px 0px 40px\;" style="margin: 5px 0px\; box-sizing: border-box\; list-style-position: initial\; list-style-image: initial\; list-style-type: inherit\; padding: 0px 0px 0px 40px\;"><li aria-setsize="-1" data-aria-level="1" data-aria-posinset="1" data-font="Symbol" data-leveltext="" data-list-defn-props='{"335552541":1\,"335559685":720\,"335559991":360\,"469769226":"Symbol"\,"469769242":[8226]\,"469777803":"left"\,"469777804":""\,"469777815":"hybridMultilevel"}' data-listid="10" style="margin: 0px\; box-sizing: border-box\; font-size: 18px\;"><div style="margin: 0px\; box-sizing: border-box\; word-break: break-word\;"><a aria-invalid="true" fr-original-style="margin: 0px\; box-sizing: border-box\; text-decoration: underline !important\; color: rgb(17\, 85\, 204)\; transition: box-shadow 0.3s ease-in-out\, opacity 0.3s ease-in-out\, background 0.3s ease-in-out\, visibility 0.3s ease-in-out\, border 0.3s ease-in-out\, color 0.3s ease-in-out\;" href="https://www.mass.gov/service-details/re33rc11-real-estate-brokerage-professional-ethics-for-residential-and-commercial" rel="noreferrer noopener" style="margin: 0px\; box-sizing: border-box\; color: rgb(17\, 85\, 204)\; transition: box-shadow 0.3s ease-in-out\, opacity 0.3s ease-in-out\, background 0.3s ease-in-out\, visibility 0.3s ease-in-out\, border 0.3s ease-in-out\, color 0.3s ease-in-out\; text-decoration: underline !important\; user-select: auto\;" target="_blank"><span data-contrast="none" lang="EN-US" style="margin: 0px\; box-sizing: border-box\;"><span data-ccp-charstyle="Hyperlink" style="margin: 0px\; box-sizing: border-box\;">RE33RC11: Real Estate Brokerage Professional Ethics for Residential and Commercial Real Estate Brokerage</span></span></a><span data-ccp-props='{"201341983":0\,"335559739":0\,"335559740":240}' style="margin: 0px\; box-sizing: border-box\;">&nbsp\;</span></div></li><li aria-setsize="-1" data-aria-level="1" data-aria-posinset="2" data-font="Symbol" data-leveltext="" data-list-defn-props='{"335552541":1\,"335559685":720\,"335559991":360\,"469769226":"Symbol"\,"469769242":[8226]\,"469777803":"left"\,"469777804":""\,"469777815":"hybridMultilevel"}' data-listid="10" style="margin: 0px\; box-sizing: border-box\; font-size: 18px\;"><div style="margin: 0px\; box-sizing: border-box\; word-break: break-word\;"><a aria-invalid="true" fr-original-style="margin: 0px\; box-sizing: border-box\; text-decoration: underline !important\; color: rgb(17\, 85\, 204)\; transition: box-shadow 0.3s ease-in-out\, opacity 0.3s ease-in-out\, background 0.3s ease-in-out\, visibility 0.3s ease-in-out\, border 0.3s ease-in-out\, color 0.3s ease-in-out\;" href="https://www.mass.gov/service-details/re25rc08-financing" rel="noreferrer noopener" style="margin: 0px\; box-sizing: border-box\; color: rgb(17\, 85\, 204)\; transition: box-shadow 0.3s ease-in-out\, opacity 0.3s ease-in-out\, background 0.3s ease-in-out\, visibility 0.3s ease-in-out\, border 0.3s ease-in-out\, color 0.3s ease-in-out\; text-decoration: underline !important\; user-select: auto\;" target="_blank"><span data-contrast="none" lang="EN-US" style="margin: 0px\; box-sizing: border-box\;"><span data-ccp-charstyle="Hyperlink" style="margin: 0px\; box-sizing: border-box\;">RE25RC08:</span></span> <span data-contrast="none" lang="EN-US" style="margin: 0px\; box-sizing: border-box\;"><span data-ccp-charstyle="Hyperlink" style="margin: 0px\; box-sizing: border-box\;">Financing</span></span></a><span data-ccp-props='{"201341983":0\,"335559739":0\,"335559740":240}' style="margin: 0px\; box-sizing: border-box\;">&nbsp\;</span></div></li><li aria-setsize="-1" data-aria-level="1" data-aria-posinset="3" data-font="Symbol" data-leveltext="" data-list-defn-props='{"335552541":1\,"335559685":720\,"335559991":360\,"469769226":"Symbol"\,"469769242":[8226]\,"469777803":"left"\,"469777804":""\,"469777815":"hybridMultilevel"}' data-listid="10" style="margin: 0px\; box-sizing: border-box\; font-size: 18px\;"><div style="margin: 0px\; box-sizing: border-box\; word-break: break-word\;"><a aria-invalid="true" fr-original-style="margin: 0px\; box-sizing: border-box\; text-decoration: underline !important\; color: rgb(17\, 85\, 204)\; transition: box-shadow 0.3s ease-in-out\, opacity 0.3s ease-in-out\, background 0.3s ease-in-out\, visibility 0.3s ease-in-out\, border 0.3s ease-in-out\, color 0.3s ease-in-out\;" href="https://www.mass.gov/service-details/re47r05-residential-mortgage-loan-market-and-credit-today" rel="noreferrer noopener" style="margin: 0px\; box-sizing: border-box\; color: rgb(17\, 85\, 204)\; transition: box-shadow 0.3s ease-in-out\, opacity 0.3s ease-in-out\, background 0.3s ease-in-out\, visibility 0.3s ease-in-out\, border 0.3s ease-in-out\, color 0.3s ease-in-out\; text-decoration: underline !important\; user-select: auto\;" target="_blank"><span data-contrast="none" lang="EN-US" style="margin: 0px\; box-sizing: border-box\;"><span data-ccp-charstyle="Hyperlink" style="margin: 0px\; box-sizing: border-box\;">RE47R25: Residential Mortgage Loan Market and Credit Today</span></span></a><span data-ccp-props='{"201341983":0\,"335559739":0\,"335559740":240}' style="margin: 0px\; box-sizing: border-box\;">&nbsp\;</span></div></li><li aria-setsize="-1" data-aria-level="1" data-aria-posinset="4" data-font="Symbol" data-leveltext="" data-list-defn-props='{"335552541":1\,"335559685":720\,"335559991":360\,"469769226":"Symbol"\,"469769242":[8226]\,"469777803":"left"\,"469777804":""\,"469777815":"hybridMultilevel"}' data-listid="10" style="margin: 0px\; box-sizing: border-box\; font-size: 18px\;"><div style="margin: 0px\; box-sizing: border-box\; word-break: break-word\;"><a aria-invalid="true" fr-original-style="margin: 0px\; box-sizing: border-box\; text-decoration: underline !important\; color: rgb(17\, 85\, 204)\; transition: box-shadow 0.3s ease-in-out\, opacity 0.3s ease-in-out\, background 0.3s ease-in-out\, visibility 0.3s ease-in-out\, border 0.3s ease-in-out\, color 0.3s ease-in-out\;" href="https://www.mass.gov/doc/re39c05-commonly-used-forms-mandatoryoptional/download" rel="noreferrer noopener" style="margin: 0px\; box-sizing: border-box\; color: rgb(17\, 85\, 204)\; transition: box-shadow 0.3s ease-in-out\, opacity 0.3s ease-in-out\, background 0.3s ease-in-out\, visibility 0.3s ease-in-out\, border 0.3s ease-in-out\, color 0.3s ease-in-out\; text-decoration: underline !important\; user-select: auto\;" target="_blank"><span data-contrast="none" lang="EN-US" style="margin: 0px\; box-sizing: border-box\;"><span data-ccp-charstyle="Hyperlink" style="margin: 0px\; box-sizing: border-box\;">RE39R20: Commonly Used Forms: Mandatory/Optional</span></span></a><span data-ccp-props='{"201341983":0\,"335559739":0\,"335559740":240}' style="margin: 0px\; box-sizing: border-box\;">&nbsp\;</span></div></li></ul><div style="margin: 0px\; box-sizing: border-box\; word-break: break-word\;"><span style="font-size: 18px\;">&nbsp\;</span></div></div><div style='margin: 0px\; box-sizing: border-box\; color: rgb(0\, 0\, 0)\; font-family: "Source Sans 3"\, serif\; font-size: 14px\; font-style: normal\; font-variant-ligatures: normal\; font-variant-caps: normal\; font-weight: 400\; letter-spacing: normal\; orphans: 2\; text-align: start\; text-indent: 0px\; text-transform: none\; widows: 2\; word-spacing: 0px\; -webkit-text-stroke-width: 0px\; white-space: normal\; background-color: rgb(255\, 255\, 255)\; text-decoration-thickness: initial\; text-decoration-style: initial\; text-decoration-color: initial\;'><span style="font-size: 18px\;"><span style="margin: 0px\; box-sizing: border-box\; font-family: Inter\, sans-serif\; color: rgb(50\, 156\, 114)\;"><span style="margin: 0px\; box-sizing: border-box\;"><strong fr-original-style="margin: 0px\; box-sizing: border-box\;" style="margin: 0px\; box-sizing: border-box\; font-weight: 700\;">Instructors:</strong></span>&nbsp\;</span></span></div><ul fr-original-style='margin: 5px 0px\; box-sizing: border-box\; list-style-position: initial\; list-style-image: initial\; list-style-type: inherit\; padding: 0px 0px 0px 40px\; color: rgb(0\, 0\, 0)\; font-family: "Source Sans 3"\, serif\; font-size: 14px\; font-style: normal\; font-variant-ligatures: normal\; font-variant-caps: normal\; font-weight: 400\; letter-spacing: normal\; orphans: 2\; text-align: start\; text-indent: 0px\; text-transform: none\; widows: 2\; word-spacing: 0px\; -webkit-text-stroke-width: 0px\; white-space: normal\; background-color: rgb(255\, 255\, 255)\; text-decoration-thickness: initial\; text-decoration-style: initial\; text-decoration-color: initial\;' style='margin: 5px 0px\; box-sizing: border-box\; list-style-position: initial\; list-style-image: initial\; list-style-type: inherit\; padding: 0px 0px 0px 40px\; color: rgb(0\, 0\, 0)\; font-family: "Source Sans 3"\, serif\; font-size: 14px\; font-style: normal\; font-variant-ligatures: normal\; font-variant-caps: normal\; font-weight: 400\; letter-spacing: normal\; orphans: 2\; text-align: start\; text-indent: 0px\; text-transform: none\; widows: 2\; word-spacing: 0px\; -webkit-text-stroke-width: 0px\; white-space: normal\; background-color: rgb(255\, 255\, 255)\; text-decoration-thickness: initial\; text-decoration-style: initial\; text-decoration-color: initial\;'><li data-end="905" data-start="891" style="margin: 0px\; box-sizing: border-box\; font-size: 18px\;"><a fr-original-style="margin: 0px\; box-sizing: border-box\; text-decoration: underline !important\; color: rgb(17\, 85\, 204)\; transition: box-shadow 0.3s ease-in-out\, opacity 0.3s ease-in-out\, background 0.3s ease-in-out\, visibility 0.3s ease-in-out\, border 0.3s ease-in-out\, color 0.3s ease-in-out\;" href="https://www.youtube.com/watch?v=fYRaD4tBwlQ&feature=youtu.be" rel="noopener noreferrer" style="margin: 0px\; box-sizing: border-box\; color: rgb(17\, 85\, 204)\; transition: box-shadow 0.3s ease-in-out\, opacity 0.3s ease-in-out\, background 0.3s ease-in-out\, visibility 0.3s ease-in-out\, border 0.3s ease-in-out\, color 0.3s ease-in-out\; text-decoration: underline !important\; user-select: auto\;" target="_blank"><strong fr-original-style="margin: 0px\; box-sizing: border-box\;" style="margin: 0px\; box-sizing: border-box\; font-weight: 700\;">Kimberly Allard</strong></a></li><li data-end="905" data-start="891" style="margin: 0px\; box-sizing: border-box\; font-size: 18px\;"><a aria-invalid="true" fr-original-style="margin: 0px\; box-sizing: border-box\; text-decoration: underline !important\; color: rgb(17\, 85\, 204)\; transition: box-shadow 0.3s ease-in-out\, opacity 0.3s ease-in-out\, background 0.3s ease-in-out\, visibility 0.3s ease-in-out\, border 0.3s ease-in-out\, color 0.3s ease-in-out\;" href="https://nelsonzide.com/" rel="noopener noreferrer" style="margin: 0px\; box-sizing: border-box\; color: rgb(17\, 85\, 204)\; transition: box-shadow 0.3s ease-in-out\, opacity 0.3s ease-in-out\, background 0.3s ease-in-out\, visibility 0.3s ease-in-out\, border 0.3s ease-in-out\, color 0.3s ease-in-out\; text-decoration: underline !important\; user-select: auto\;" target="_blank"><strong fr-original-style="margin: 0px\; box-sizing: border-box\;" style="margin: 0px\; box-sizing: border-box\; font-weight: 700\;">Nelson Zide</strong></a></li></ul><div style='margin: 0px\; box-sizing: border-box\; word-break: break-word\; color: rgb(0\, 0\, 0)\; font-family: "Source Sans 3"\, serif\; font-size: 14px\; font-style: normal\; font-variant-ligatures: normal\; font-variant-caps: normal\; font-weight: 400\; letter-spacing: normal\; orphans: 2\; text-align: start\; text-indent: 0px\; text-transform: none\; widows: 2\; word-spacing: 0px\; -webkit-text-stroke-width: 0px\; white-space: normal\; background-color: rgb(255\, 255\, 255)\; text-decoration-thickness: initial\; text-decoration-style: initial\; text-decoration-color: initial\;'><span style="font-size: 18px\;">&nbsp\;</span></div><div style='margin: 0px\; box-sizing: border-box\; word-break: break-word\; color: rgb(0\, 0\, 0)\; font-family: "Source Sans 3"\, serif\; font-size: 14px\; font-style: normal\; font-variant-ligatures: normal\; font-variant-caps: normal\; font-weight: 400\; letter-spacing: normal\; orphans: 2\; text-align: start\; text-indent: 0px\; text-transform: none\; widows: 2\; word-spacing: 0px\; -webkit-text-stroke-width: 0px\; white-space: normal\; background-color: rgb(255\, 255\, 255)\; text-decoration-thickness: initial\; text-decoration-style: initial\; text-decoration-color: initial\;'><span style="font-size: 18px\;"><span style="margin: 0px\; box-sizing: border-box\; font-family: Inter\, sans-serif\;"><span style="margin: 0px\; box-sizing: border-box\; color: rgb(53\, 152\, 219)\;"><strong fr-original-style="margin: 0px\; box-sizing: border-box\;" style="margin: 0px\; box-sizing: border-box\; font-weight: 700\;"><span style="margin: 0px\; box-sizing: border-box\; color: rgb(50\, 156\, 114)\;">Format:</span>&nbsp\;</strong></span>Virtual (via Zoom)</span></span></div><div style='margin: 0px\; box-sizing: border-box\; word-break: break-word\; color: rgb(0\, 0\, 0)\; font-family: "Source Sans 3"\, serif\; font-size: 14px\; font-style: normal\; font-variant-ligatures: normal\; font-variant-caps: normal\; font-weight: 400\; letter-spacing: normal\; orphans: 2\; text-align: start\; text-indent: 0px\; text-transform: none\; widows: 2\; word-spacing: 0px\; -webkit-text-stroke-width: 0px\; white-space: normal\; background-color: rgb(255\, 255\, 255)\; text-decoration-thickness: initial\; text-decoration-style: initial\; text-decoration-color: initial\;'><span style="font-size: 18px\;"><span style="margin: 0px\; box-sizing: border-box\; font-family: Inter\, sans-serif\;">&nbsp\;</span></span></div><div style='margin: 0px\; box-sizing: border-box\; color: rgb(0\, 0\, 0)\; font-family: "Source Sans 3"\, serif\; font-size: 14px\; font-style: normal\; font-variant-ligatures: normal\; font-variant-caps: normal\; font-weight: 400\; letter-spacing: normal\; orphans: 2\; text-align: start\; text-indent: 0px\; text-transform: none\; widows: 2\; word-spacing: 0px\; -webkit-text-stroke-width: 0px\; white-space: normal\; background-color: rgb(255\, 255\, 255)\; text-decoration-thickness: initial\; text-decoration-style: initial\; text-decoration-color: initial\;'><span style="font-size: 18px\;"><span style="margin: 0px\; box-sizing: border-box\; font-family: Inter\, sans-serif\; color: rgb(50\, 156\, 114)\;"><strong fr-original-style="margin: 0px\; box-sizing: border-box\;" style="margin: 0px\; box-sizing: border-box\; font-weight: 700\;"><span style="margin: 0px\; box-sizing: border-box\;">Dates &amp\; Times:&nbsp\;</span></strong></span></span></div><div style='margin: 0px\; box-sizing: border-box\; word-break: break-word\; color: rgb(0\, 0\, 0)\; font-family: "Source Sans 3"\, serif\; font-size: 14px\; font-style: normal\; font-variant-ligatures: normal\; font-variant-caps: normal\; font-weight: 400\; letter-spacing: normal\; orphans: 2\; text-align: start\; text-indent: 0px\; text-transform: none\; widows: 2\; word-spacing: 0px\; -webkit-text-stroke-width: 0px\; white-space: normal\; background-color: rgb(255\, 255\, 255)\; text-decoration-thickness: initial\; text-decoration-style: initial\; text-decoration-color: initial\;'><ul fr-original-style="margin: 5px 0px\; box-sizing: border-box\; list-style-position: initial\; list-style-image: initial\; list-style-type: inherit\; padding: 0px 0px 0px 40px\;" style="margin: 5px 0px\; box-sizing: border-box\; list-style-position: initial\; list-style-image: initial\; list-style-type: inherit\; padding: 0px 0px 0px 40px\;" type="disc"><li style="margin: 0px\; box-sizing: border-box\; font-size: 18px\;">April 29\, 2026 | 9:00 AM &ndash\; 1:15 PM EST with Kimberly Allard</li><li data-end="999" data-start="957" style="margin: 0px\; box-sizing: border-box\; font-size: 18px\;"><div data-end="999" data-start="959" style="margin: 0px\; box-sizing: border-box\; word-break: break-word\;">April 30\, 2026 | 9:00 AM &ndash\; 1:15 PM EST with Kimberly Allard</div></li><li data-end="1039" data-start="1000" style="margin: 0px\; box-sizing: border-box\; font-size: 18px\;"><div data-end="1039" data-start="1002" style="margin: 0px\; box-sizing: border-box\; word-break: break-word\;">May 6\, 2026 | 9:00 AM &ndash\; 1:15 PM EST with Kimberly Allard</div></li><li data-end="1079" data-start="1040" style="margin: 0px\; box-sizing: border-box\; font-size: 18px\;"><div data-end="1079" data-start="1042" style="margin: 0px\; box-sizing: border-box\; word-break: break-word\;">May 7\, 2026 | 9:00 AM &ndash\; 1:15 PM EST with Nelson Zide</div></li></ul></div><div data-end="1168" data-start="1128" style='margin: 0px\; box-sizing: border-box\; color: rgb(0\, 0\, 0)\; font-family: "Source Sans 3"\, serif\; font-size: 14px\; font-style: normal\; font-variant-ligatures: normal\; font-variant-caps: normal\; font-weight: 400\; letter-spacing: normal\; orphans: 2\; text-align: start\; text-indent: 0px\; text-transform: none\; widows: 2\; word-spacing: 0px\; -webkit-text-stroke-width: 0px\; white-space: normal\; background-color: rgb(255\, 255\, 255)\; text-decoration-thickness: initial\; text-decoration-style: initial\; text-decoration-color: initial\;'><span style="font-size: 18px\;">&nbsp\;</span></div><div style='margin: 0px\; box-sizing: border-box\; color: rgb(0\, 0\, 0)\; font-family: "Source Sans 3"\, serif\; font-size: 14px\; font-style: normal\; font-variant-ligatures: normal\; font-variant-caps: normal\; font-weight: 400\; letter-spacing: normal\; orphans: 2\; text-align: start\; text-indent: 0px\; text-transform: none\; widows: 2\; word-spacing: 0px\; -webkit-text-stroke-width: 0px\; white-space: normal\; background-color: rgb(255\, 255\, 255)\; text-decoration-thickness: initial\; text-decoration-style: initial\; text-decoration-color: initial\;'><span style="font-size: 18px\;"><span style="margin: 0px\; box-sizing: border-box\; font-family: Inter\, sans-serif\; color: rgb(50\, 156\, 114)\;"><strong fr-original-style="margin: 0px\; box-sizing: border-box\;" style="margin: 0px\; box-sizing: border-box\; font-weight: 700\;">About the Graduate\, REALTOR&reg\; Institute (GRI):</strong></span><br style="margin: 0px\; box-sizing: border-box\;"><span style="margin: 0px\; box-sizing: border-box\; font-family: Inter\, sans-serif\;">Increase your value as a REALTOR&reg\; with the Graduate REALTOR&reg\; Institute (GRI) Designation Program. This&nbsp\;<a fr-original-style="margin: 0px\; box-sizing: border-box\; text-decoration: underline !important\; color: rgb(17\, 85\, 204)\; transition: box-shadow 0.3s ease-in-out\, opacity 0.3s ease-in-out\, background 0.3s ease-in-out\, visibility 0.3s ease-in-out\, border 0.3s ease-in-out\, color 0.3s ease-in-out\;" href="https://www.marealtor.com/gri/" rel="noopener" style="margin: 0px\; box-sizing: border-box\; color: rgb(17\, 85\, 204)\; transition: box-shadow 0.3s ease-in-out\, opacity 0.3s ease-in-out\, background 0.3s ease-in-out\, visibility 0.3s ease-in-out\, border 0.3s ease-in-out\, color 0.3s ease-in-out\; text-decoration: underline !important\; user-select: auto\;" target="_blank">six-course program</a> is designed to help you gain in-depth knowledge of the fundamentals of real estate. <span data-slate-fragment="JTVCJTdCJTIydHlwZSUyMiUzQSUyMmJ1bGxldGVkLWxpc3QlMjIlMkMlMjJjaGlsZHJlbiUyMiUzQSU1QiU3QiUyMnR5cGUlMjIlM0ElMjJsaXN0LWl0ZW0lMjIlMkMlMjJpbmRlbnQlMjIlM0EwJTJDJTIyYWxpZ24lMjIlM0ElMjJsZWZ0JTIyJTJDJTIydGV4dEFsaWduJTIyJTNBJTIybGVmdCUyMiUyQyUyMmZvbnRTaXplJTIyJTNBJTIyMTZweCUyMiUyQyUyMmNsYXNzTmFtZSUyMiUzQSUyMmFiLWJhc2UlMjIlMkMlMjJjaGlsZHJlbiUyMiUzQSU1QiU3QiUyMmNvbG9yJTIyJTNBJTdCJTIyciUyMiUzQTc3JTJDJTIyZyUyMiUzQTc3JTJDJTIyYiUyMiUzQTc3JTJDJTIyYSUyMiUzQTElN0QlMkMlMjJjb2xvclByaW9yaXR5JTIyJTNBJTIyY29sb3IlMjIlMkMlMjJ0ZXh0JTIyJTNBJTIyQ3VycmVudCUyMEdSSSUyMGRlc2lnbmVlcyUyMGNhbiUyMHRha2UlMjBjb3Vyc2VzJTIwYXQlMjBhJTIwNTAlMjUlMjBkaXNjb3VudC4lMjIlN0QlNUQlN0QlNUQlMkMlMjJjbGFzc05hbWUlMjIlM0ElMjJhYi1iYXNlJTIyJTdEJTVE" style="margin: 0px\; box-sizing: border-box\;">Current GRI designees can take courses at a 50% discount.</span>&nbsp\;</span></span></div><div style='margin: 0px\; box-sizing: border-box\; word-break: break-word\; color: rgb(0\, 0\, 0)\; font-family: "Source Sans 3"\, serif\; font-size: 14px\; font-style: normal\; font-variant-ligatures: normal\; font-variant-caps: normal\; font-weight: 400\; letter-spacing: normal\; orphans: 2\; text-align: start\; text-indent: 0px\; text-transform: none\; widows: 2\; word-spacing: 0px\; -webkit-text-stroke-width: 0px\; white-space: normal\; background-color: rgb(255\, 255\, 255)\; text-decoration-thickness: initial\; text-decoration-style: initial\; text-decoration-color: initial\;'><span style="font-size: 18px\;">&nbsp\;</span></div><div style='margin: 0px\; box-sizing: border-box\; word-break: break-word\; color: rgb(0\, 0\, 0)\; font-family: "Source Sans 3"\, serif\; font-size: 14px\; font-style: normal\; font-variant-ligatures: normal\; font-variant-caps: normal\; font-weight: 400\; letter-spacing: normal\; orphans: 2\; text-align: start\; text-indent: 0px\; text-transform: none\; widows: 2\; word-spacing: 0px\; -webkit-text-stroke-width: 0px\; white-space: normal\; background-color: rgb(255\, 255\, 255)\; text-decoration-thickness: initial\; text-decoration-style: initial\; text-decoration-color: initial\;'><span style="font-size: 18px\;"><span style="margin: 0px\; box-sizing: border-box\; color: rgb(50\, 156\, 114)\; font-family: Inter\, sans-serif\;"><strong fr-original-style="margin: 0px\; box-sizing: border-box\;" style="margin: 0px\; box-sizing: border-box\; font-weight: 700\;">Registration Information:</strong></span><br style="margin: 0px\; box-sizing: border-box\;"></span><span style="margin: 0px\; box-sizing: border-box\; font-family: Inter\, sans-serif\; font-size: 18px\;">A Zoom link will be sent to registered participants before the class begins. &nbsp\;</span></div><p><br></p><p><span style="margin: 0px\; box-sizing: border-box\; font-family: Inter\, sans-serif\; font-size: 18px\;"><strong fr-original-style="" style="font-weight: 700\;">Member Registration: $250</strong></span></p></body></html>
LOCATION:
UID:e.2512.1438888
SEQUENCE:3
DTSTAMP:20260424T193959Z
URL:https://members.rasem.realtor/event-calendar/Details/gri-201-tools-of-the-trade-ce-8-1703087?sourceTypeId=Hub
END:VEVENT
END:VCALENDAR
