BEGIN:VCALENDAR
VERSION:2.0
PRODID:-//ChamberMaster//Event Calendar 2.0//EN
METHOD:PUBLISH
X-PUBLISHED-TTL:P1H
REFRESH-INTERVAL:P1H
CALSCALE:GREGORIAN
BEGIN:VTIMEZONE
TZID:America/New_York
BEGIN:DAYLIGHT
RRULE:FREQ=YEARLY;BYMONTH=3;BYDAY=2SU
DTSTART:20070101T000000
TZOFFSETFROM:-0500
TZOFFSETTO:-0400
TZNAME:Eastern Daylight Time
END:DAYLIGHT
BEGIN:STANDARD
RRULE:FREQ=YEARLY;BYMONTH=11;BYDAY=1SU
DTSTART:20070101T000000
TZOFFSETFROM:-0400
TZOFFSETTO:-0500
TZNAME:Eastern Standard Time
END:STANDARD
END:VTIMEZONE
BEGIN:VEVENT
DTSTART;TZID=America/New_York:20260922T090000
DTEND;TZID=America/New_York:20260930T131500
X-MICROSOFT-CDO-ALLDAYEVENT:FALSE
SUMMARY:GRI 301: Technology (CE-6)
DESCRIPTION:What You'll Learn: Use technology tools to streamline transactions and strengthen client engagementExplore emerging technologies such as AI\, VR/AR\, blockchain\, and smart home systemsApply compliance standards in online advertising and manage digital risk effectivelyConduct accurate CMAs and utilize property valuation tools for residential and commercial markets\nEarn 6 CE Credits upon completionRE32RC21: Technology and Real Estate Brokerage RE41R25: Real Estate Advertising Compliance and the Law RE62RC10: Comparative Market Analysis (CMA) \nInstructor: Kimberly Allard\nFormat: Virtual (via Zoom)  \nDates & Times: September 22\, 2026 | 9:00 AM   1:15 PM ESTSeptember 23\, 2026 | 9:00 AM   1:15 PM ESTSeptember 29\, 2026 | 9:00 AM   1:15 PM ESTSeptember 30\, 2026 | 9:00 AM   1:15 PM EST\nAbout the Graduate\, REALTOR  Institute (GRI):\nIncrease your value as a REALTOR  with the Graduate REALTOR  Institute (GRI) Designation Program. This six-course program is designed to help you gain in-depth knowledge of the fundamentals of real estate. Current GRI designees can take courses at a 50% discount.\nRegistration Information:\nA Zoom link will be sent to registered participants before the class begins.
X-ALT-DESC;FMTTYPE=text/html:<!DOCTYPE html><html><head><title></title></head><body aria-disabled="false"><div style='margin: 0px\; box-sizing: border-box\; color: rgb(0\, 0\, 0)\; font-family: "Source Sans 3"\, serif\; font-size: 14px\; font-style: normal\; font-variant-ligatures: normal\; font-variant-caps: normal\; font-weight: 400\; letter-spacing: normal\; orphans: 2\; text-align: start\; text-indent: 0px\; text-transform: none\; widows: 2\; word-spacing: 0px\; -webkit-text-stroke-width: 0px\; white-space: normal\; background-color: rgb(255\, 255\, 255)\; text-decoration-thickness: initial\; text-decoration-style: initial\; text-decoration-color: initial\;'><span style="margin: 0px\; box-sizing: border-box\; color: rgb(230\, 126\, 35)\; font-size: 18px\; font-family: Inter\, sans-serif\;"><strong fr-original-style="margin: 0px\; box-sizing: border-box\;" style="margin: 0px\; box-sizing: border-box\; font-weight: 700\;">What You&rsquo\;ll Learn:&nbsp\;</strong></span></div><div data-end="625" data-start="529" style='margin: 0px\; box-sizing: border-box\; word-break: break-word\; color: rgb(0\, 0\, 0)\; font-family: "Source Sans 3"\, serif\; font-size: 14px\; font-style: normal\; font-variant-ligatures: normal\; font-variant-caps: normal\; font-weight: 400\; letter-spacing: normal\; orphans: 2\; text-align: start\; text-indent: 0px\; text-transform: none\; widows: 2\; word-spacing: 0px\; -webkit-text-stroke-width: 0px\; white-space: normal\; background-color: rgb(255\, 255\, 255)\; text-decoration-thickness: initial\; text-decoration-style: initial\; text-decoration-color: initial\;'><ul fr-original-style="margin: 5px 0px\; box-sizing: border-box\; list-style-position: initial\; list-style-image: initial\; list-style-type: inherit\; padding: 0px 0px 0px 40px\;" style="margin: 5px 0px\; box-sizing: border-box\; list-style-position: initial\; list-style-image: initial\; list-style-type: inherit\; padding: 0px 0px 0px 40px\;"><li data-end="258" data-start="174" style="margin: 0px\; box-sizing: border-box\; font-size: 18px\;"><div data-end="258" data-start="176" style="margin: 0px\; box-sizing: border-box\; word-break: break-word\;">Use technology tools to streamline transactions and strengthen client engagement</div></li><li data-end="346" data-start="259" style="margin: 0px\; box-sizing: border-box\; font-size: 18px\;"><div data-end="346" data-start="261" style="margin: 0px\; box-sizing: border-box\; word-break: break-word\;">Explore emerging technologies such as AI\, VR/AR\, blockchain\, and smart home systems</div></li><li data-end="435" data-start="347" style="margin: 0px\; box-sizing: border-box\; font-size: 18px\;"><div data-end="435" data-start="349" style="margin: 0px\; box-sizing: border-box\; word-break: break-word\;">Apply compliance standards in online advertising and manage digital risk effectively</div></li><li data-end="537" data-start="436" style="margin: 0px\; box-sizing: border-box\; font-size: 18px\;"><div data-end="537" data-start="438" style="margin: 0px\; box-sizing: border-box\; word-break: break-word\;">Conduct accurate CMAs and utilize property valuation tools for residential and commercial markets</div></li></ul><div style="margin: 0px\; box-sizing: border-box\; word-break: break-word\;"><br></div></div><div style='margin: 0px\; box-sizing: border-box\; word-break: break-word\; color: rgb(0\, 0\, 0)\; font-family: "Source Sans 3"\, serif\; font-size: 14px\; font-style: normal\; font-variant-ligatures: normal\; font-variant-caps: normal\; font-weight: 400\; letter-spacing: normal\; orphans: 2\; text-align: start\; text-indent: 0px\; text-transform: none\; widows: 2\; word-spacing: 0px\; -webkit-text-stroke-width: 0px\; white-space: normal\; background-color: rgb(255\, 255\, 255)\; text-decoration-thickness: initial\; text-decoration-style: initial\; text-decoration-color: initial\;'><span style="font-size: 18px\;"><span style="margin: 0px\; box-sizing: border-box\; color: rgb(230\, 126\, 35)\; font-family: Inter\, sans-serif\;"><strong fr-original-style="margin: 0px\; box-sizing: border-box\;" style="margin: 0px\; box-sizing: border-box\; font-weight: 700\;">Earn 6 CE Credits upon completion</strong></span></span></div><div style='margin: 0px\; box-sizing: border-box\; word-break: break-word\; color: rgb(0\, 0\, 0)\; font-family: "Source Sans 3"\, serif\; font-size: 14px\; font-style: normal\; font-variant-ligatures: normal\; font-variant-caps: normal\; font-weight: 400\; letter-spacing: normal\; orphans: 2\; text-align: start\; text-indent: 0px\; text-transform: none\; widows: 2\; word-spacing: 0px\; -webkit-text-stroke-width: 0px\; white-space: normal\; background-color: rgb(255\, 255\, 255)\; text-decoration-thickness: initial\; text-decoration-style: initial\; text-decoration-color: initial\;'><div style="margin: 0px\; box-sizing: border-box\; word-break: break-word\;"><ul fr-original-style="margin: 5px 0px\; box-sizing: border-box\; list-style-position: initial\; list-style-image: initial\; list-style-type: inherit\; padding: 0px 0px 0px 40px\;" style="margin: 5px 0px\; box-sizing: border-box\; list-style-position: initial\; list-style-image: initial\; list-style-type: inherit\; padding: 0px 0px 0px 40px\;"><li aria-setsize="-1" data-aria-level="1" data-aria-posinset="1" data-font="Symbol" data-leveltext="" data-list-defn-props='{"335552541":1\,"335559685":720\,"335559991":360\,"469769226":"Symbol"\,"469769242":[8226]\,"469777803":"left"\,"469777804":""\,"469777815":"hybridMultilevel"}' data-listid="29" style="margin: 0px\; box-sizing: border-box\; font-size: 18px\;"><div style="margin: 0px\; box-sizing: border-box\; word-break: break-word\;"><a aria-invalid="true" fr-original-style="margin: 0px\; box-sizing: border-box\; text-decoration: underline !important\; color: rgb(17\, 85\, 204)\; transition: box-shadow 0.3s ease-in-out\, opacity 0.3s ease-in-out\, background 0.3s ease-in-out\, visibility 0.3s ease-in-out\, border 0.3s ease-in-out\, color 0.3s ease-in-out\;" href="https://www.mass.gov/doc/re32rc21-technology-and-real-estate-brokerage/download" rel="noreferrer noopener" style="margin: 0px\; box-sizing: border-box\; color: rgb(17\, 85\, 204)\; transition: box-shadow 0.3s ease-in-out\, opacity 0.3s ease-in-out\, background 0.3s ease-in-out\, visibility 0.3s ease-in-out\, border 0.3s ease-in-out\, color 0.3s ease-in-out\; text-decoration: underline !important\; user-select: auto\;" target="_blank"><span data-contrast="none" lang="EN-US" style="margin: 0px\; box-sizing: border-box\;"><span data-ccp-charstyle="Hyperlink" style="margin: 0px\; box-sizing: border-box\;">RE32RC21</span><span data-ccp-charstyle="Hyperlink" style="margin: 0px\; box-sizing: border-box\;">: Technology and Real Estate Brokerage</span></span></a><span data-ccp-props='{"201341983":0\,"335559739":0\,"335559740":240}' style="margin: 0px\; box-sizing: border-box\;">&nbsp\;</span></div></li><li aria-setsize="-1" data-aria-level="1" data-aria-posinset="2" data-font="Symbol" data-leveltext="" data-list-defn-props='{"335552541":1\,"335559685":720\,"335559991":360\,"469769226":"Symbol"\,"469769242":[8226]\,"469777803":"left"\,"469777804":""\,"469777815":"hybridMultilevel"}' data-listid="29" style="margin: 0px\; box-sizing: border-box\; font-size: 18px\;"><div style="margin: 0px\; box-sizing: border-box\; word-break: break-word\;"><a aria-invalid="true" fr-original-style="margin: 0px\; box-sizing: border-box\; text-decoration: underline !important\; color: rgb(17\, 85\, 204)\; transition: box-shadow 0.3s ease-in-out\, opacity 0.3s ease-in-out\, background 0.3s ease-in-out\, visibility 0.3s ease-in-out\, border 0.3s ease-in-out\, color 0.3s ease-in-out\;" href="https://www.mass.gov/doc/re41r05-real-estate-advertising-compliance-and-the-law/download" rel="noreferrer noopener" style="margin: 0px\; box-sizing: border-box\; color: rgb(17\, 85\, 204)\; transition: box-shadow 0.3s ease-in-out\, opacity 0.3s ease-in-out\, background 0.3s ease-in-out\, visibility 0.3s ease-in-out\, border 0.3s ease-in-out\, color 0.3s ease-in-out\; text-decoration: underline !important\; user-select: auto\;" target="_blank"><span data-contrast="none" lang="EN-US" style="margin: 0px\; box-sizing: border-box\;"><span data-ccp-charstyle="Hyperlink" style="margin: 0px\; box-sizing: border-box\;">RE41R25:&nbsp\;</span><span data-ccp-charstyle="Hyperlink" style="margin: 0px\; box-sizing: border-box\;">Real Estate Advertising Compliance and the&nbsp\;Law</span></span></a><span data-ccp-props='{"201341983":0\,"335559739":0\,"335559740":240}' style="margin: 0px\; box-sizing: border-box\;">&nbsp\;</span></div></li><li aria-setsize="-1" data-aria-level="1" data-aria-posinset="3" data-font="Symbol" data-leveltext="" data-list-defn-props='{"335552541":1\,"335559685":720\,"335559991":360\,"469769226":"Symbol"\,"469769242":[8226]\,"469777803":"left"\,"469777804":""\,"469777815":"hybridMultilevel"}' data-listid="29" style="margin: 0px\; box-sizing: border-box\; font-size: 18px\;"><div style="margin: 0px\; box-sizing: border-box\; word-break: break-word\;"><a aria-invalid="true" fr-original-style="margin: 0px\; box-sizing: border-box\; text-decoration: underline !important\; color: rgb(17\, 85\, 204)\; transition: box-shadow 0.3s ease-in-out\, opacity 0.3s ease-in-out\, background 0.3s ease-in-out\, visibility 0.3s ease-in-out\, border 0.3s ease-in-out\, color 0.3s ease-in-out\;" href="https://www.mass.gov/service-details/re62rc10-comparative-market-analysis-cma" rel="noreferrer noopener" style="margin: 0px\; box-sizing: border-box\; color: rgb(17\, 85\, 204)\; transition: box-shadow 0.3s ease-in-out\, opacity 0.3s ease-in-out\, background 0.3s ease-in-out\, visibility 0.3s ease-in-out\, border 0.3s ease-in-out\, color 0.3s ease-in-out\; text-decoration: underline !important\; user-select: auto\;" target="_blank"><span data-contrast="none" lang="EN-US" style="margin: 0px\; box-sizing: border-box\;"><span data-ccp-charstyle="Hyperlink" style="margin: 0px\; box-sizing: border-box\;">RE62RC10:&nbsp\;</span><span data-ccp-charstyle="Hyperlink" style="margin: 0px\; box-sizing: border-box\;">Comparative Market Analysis (CMA)</span></span></a><span data-ccp-props='{"201341983":0\,"335559739":0\,"335559740":240}' style="margin: 0px\; box-sizing: border-box\;">&nbsp\;</span></div></li></ul></div></div><div style='margin: 0px\; box-sizing: border-box\; word-break: break-word\; color: rgb(0\, 0\, 0)\; font-family: "Source Sans 3"\, serif\; font-size: 14px\; font-style: normal\; font-variant-ligatures: normal\; font-variant-caps: normal\; font-weight: 400\; letter-spacing: normal\; orphans: 2\; text-align: start\; text-indent: 0px\; text-transform: none\; widows: 2\; word-spacing: 0px\; -webkit-text-stroke-width: 0px\; white-space: normal\; background-color: rgb(255\, 255\, 255)\; text-decoration-thickness: initial\; text-decoration-style: initial\; text-decoration-color: initial\;'><br></div><div style='margin: 0px\; box-sizing: border-box\; color: rgb(0\, 0\, 0)\; font-family: "Source Sans 3"\, serif\; font-size: 14px\; font-style: normal\; font-variant-ligatures: normal\; font-variant-caps: normal\; font-weight: 400\; letter-spacing: normal\; orphans: 2\; text-align: start\; text-indent: 0px\; text-transform: none\; widows: 2\; word-spacing: 0px\; -webkit-text-stroke-width: 0px\; white-space: normal\; background-color: rgb(255\, 255\, 255)\; text-decoration-thickness: initial\; text-decoration-style: initial\; text-decoration-color: initial\;'><span style="font-size: 18px\;"><span style="margin: 0px\; box-sizing: border-box\; color: rgb(230\, 126\, 35)\;"><strong fr-original-style="margin: 0px\; box-sizing: border-box\;" style="margin: 0px\; box-sizing: border-box\; font-weight: 700\;"><span style="margin: 0px\; box-sizing: border-box\;">Instructor:&nbsp\;</span></strong></span></span><ul fr-original-style="margin: 5px 0px\; box-sizing: border-box\; list-style-position: initial\; list-style-image: initial\; list-style-type: inherit\; padding: 0px 0px 0px 40px\;" style="margin: 5px 0px\; box-sizing: border-box\; list-style-position: initial\; list-style-image: initial\; list-style-type: inherit\; padding: 0px 0px 0px 40px\;"><li style="margin: 0px\; box-sizing: border-box\; font-size: 18px\;"><a fr-original-style="margin: 0px\; box-sizing: border-box\; text-decoration: underline !important\; color: rgb(17\, 85\, 204)\; transition: box-shadow 0.3s ease-in-out\, opacity 0.3s ease-in-out\, background 0.3s ease-in-out\, visibility 0.3s ease-in-out\, border 0.3s ease-in-out\, color 0.3s ease-in-out\;" href="https://youtu.be/fYRaD4tBwlQ" rel="noopener noreferrer" style="margin: 0px\; box-sizing: border-box\; color: rgb(17\, 85\, 204)\; transition: box-shadow 0.3s ease-in-out\, opacity 0.3s ease-in-out\, background 0.3s ease-in-out\, visibility 0.3s ease-in-out\, border 0.3s ease-in-out\, color 0.3s ease-in-out\; text-decoration: underline !important\; user-select: auto\;" target="_blank">Kimberly Allard</a></li></ul><div style="margin: 0px\; box-sizing: border-box\; word-break: break-word\;"><br></div><span style="font-size: 18px\;"><span style="margin: 0px\; box-sizing: border-box\; color: rgb(230\, 126\, 35)\;"><strong fr-original-style="margin: 0px\; box-sizing: border-box\;" style="margin: 0px\; box-sizing: border-box\; font-weight: 700\;">Format:&nbsp\;</strong></span>Virtual (via Zoom) &nbsp\;</span></div><div style='margin: 0px\; box-sizing: border-box\; word-break: break-word\; color: rgb(0\, 0\, 0)\; font-family: "Source Sans 3"\, serif\; font-size: 14px\; font-style: normal\; font-variant-ligatures: normal\; font-variant-caps: normal\; font-weight: 400\; letter-spacing: normal\; orphans: 2\; text-align: start\; text-indent: 0px\; text-transform: none\; widows: 2\; word-spacing: 0px\; -webkit-text-stroke-width: 0px\; white-space: normal\; background-color: rgb(255\, 255\, 255)\; text-decoration-thickness: initial\; text-decoration-style: initial\; text-decoration-color: initial\;'><br></div><div style='margin: 0px\; box-sizing: border-box\; word-break: break-word\; color: rgb(0\, 0\, 0)\; font-family: "Source Sans 3"\, serif\; font-size: 14px\; font-style: normal\; font-variant-ligatures: normal\; font-variant-caps: normal\; font-weight: 400\; letter-spacing: normal\; orphans: 2\; text-align: start\; text-indent: 0px\; text-transform: none\; widows: 2\; word-spacing: 0px\; -webkit-text-stroke-width: 0px\; white-space: normal\; background-color: rgb(255\, 255\, 255)\; text-decoration-thickness: initial\; text-decoration-style: initial\; text-decoration-color: initial\;'><span style="font-size: 18px\;"><span style="margin: 0px\; box-sizing: border-box\; color: rgb(230\, 126\, 35)\;"><strong fr-original-style="margin: 0px\; box-sizing: border-box\;" style="margin: 0px\; box-sizing: border-box\; font-weight: 700\;"><span style="margin: 0px\; box-sizing: border-box\;">Dates &amp\; Times:&nbsp\;</span></strong></span></span><div style="margin: 0px\; box-sizing: border-box\; word-break: break-word\;"><div style="margin: 0px\; box-sizing: border-box\; word-break: break-word\;"><ul fr-original-style="margin: 5px 0px\; box-sizing: border-box\; list-style-position: initial\; list-style-image: initial\; list-style-type: inherit\; padding: 0px 0px 0px 40px\;" style="margin: 5px 0px\; box-sizing: border-box\; list-style-position: initial\; list-style-image: initial\; list-style-type: inherit\; padding: 0px 0px 0px 40px\;"><li data-end="853" data-start="807" style="margin: 0px\; box-sizing: border-box\; font-size: 18px\;"><div data-end="853" data-start="809" style="margin: 0px\; box-sizing: border-box\; word-break: break-word\;">September 22\, 2026 | 9:00 AM &ndash\; 1:15 PM EST</div></li><li data-end="900" data-start="854" style="margin: 0px\; box-sizing: border-box\; font-size: 18px\;"><div data-end="900" data-start="856" style="margin: 0px\; box-sizing: border-box\; word-break: break-word\;">September 23\, 2026 | 9:00 AM &ndash\; 1:15 PM EST</div></li><li data-end="947" data-start="901" style="margin: 0px\; box-sizing: border-box\; font-size: 18px\;"><div data-end="947" data-start="903" style="margin: 0px\; box-sizing: border-box\; word-break: break-word\;">September 29\, 2026 | 9:00 AM &ndash\; 1:15 PM EST</div></li><li data-end="994" data-start="948" style="margin: 0px\; box-sizing: border-box\; font-size: 18px\;"><div data-end="994" data-start="950" style="margin: 0px\; box-sizing: border-box\; word-break: break-word\;">September 30\, 2026 | 9:00 AM &ndash\; 1:15 PM EST</div></li></ul></div></div><div style="margin: 0px\; box-sizing: border-box\; word-break: break-word\;"><br></div><span style="font-size: 18px\;"><span style="margin: 0px\; box-sizing: border-box\; color: rgb(230\, 126\, 35)\;"><strong fr-original-style="margin: 0px\; box-sizing: border-box\;" style="margin: 0px\; box-sizing: border-box\; font-weight: 700\;">About the Graduate\, REALTOR&reg\; Institute (GRI):</strong></span><br style="margin: 0px\; box-sizing: border-box\;">Increase your value as a REALTOR&reg\; with the Graduate REALTOR&reg\; Institute (GRI) Designation Program. This <a fr-original-style="margin: 0px\; box-sizing: border-box\; text-decoration: underline !important\; color: rgb(17\, 85\, 204)\; transition: box-shadow 0.3s ease-in-out\, opacity 0.3s ease-in-out\, background 0.3s ease-in-out\, visibility 0.3s ease-in-out\, border 0.3s ease-in-out\, color 0.3s ease-in-out\;" href="https://www.marealtor.com/gri/" rel="noopener" style="margin: 0px\; box-sizing: border-box\; color: rgb(17\, 85\, 204)\; transition: box-shadow 0.3s ease-in-out\, opacity 0.3s ease-in-out\, background 0.3s ease-in-out\, visibility 0.3s ease-in-out\, border 0.3s ease-in-out\, color 0.3s ease-in-out\; text-decoration: underline !important\; user-select: auto\;" target="_blank">six-course program</a> is designed to help you gain in-depth knowledge of the fundamentals of real estate. <span data-slate-fragment="JTVCJTdCJTIydHlwZSUyMiUzQSUyMmJ1bGxldGVkLWxpc3QlMjIlMkMlMjJjaGlsZHJlbiUyMiUzQSU1QiU3QiUyMnR5cGUlMjIlM0ElMjJsaXN0LWl0ZW0lMjIlMkMlMjJpbmRlbnQlMjIlM0EwJTJDJTIyYWxpZ24lMjIlM0ElMjJsZWZ0JTIyJTJDJTIydGV4dEFsaWduJTIyJTNBJTIybGVmdCUyMiUyQyUyMmZvbnRTaXplJTIyJTNBJTIyMTZweCUyMiUyQyUyMmNsYXNzTmFtZSUyMiUzQSUyMmFiLWJhc2UlMjIlMkMlMjJjaGlsZHJlbiUyMiUzQSU1QiU3QiUyMmNvbG9yJTIyJTNBJTdCJTIyciUyMiUzQTc3JTJDJTIyZyUyMiUzQTc3JTJDJTIyYiUyMiUzQTc3JTJDJTIyYSUyMiUzQTElN0QlMkMlMjJjb2xvclByaW9yaXR5JTIyJTNBJTIyY29sb3IlMjIlMkMlMjJ0ZXh0JTIyJTNBJTIyQ3VycmVudCUyMEdSSSUyMGRlc2lnbmVlcyUyMGNhbiUyMHRha2UlMjBjb3Vyc2VzJTIwYXQlMjBhJTIwNTAlMjUlMjBkaXNjb3VudC4lMjIlN0QlNUQlN0QlNUQlMkMlMjJjbGFzc05hbWUlMjIlM0ElMjJhYi1iYXNlJTIyJTdEJTVE" style="margin: 0px\; box-sizing: border-box\;">Current GRI designees can take courses at a 50% discount.</span></span></div><div style='margin: 0px\; box-sizing: border-box\; word-break: break-word\; color: rgb(0\, 0\, 0)\; font-family: "Source Sans 3"\, serif\; font-size: 14px\; font-style: normal\; font-variant-ligatures: normal\; font-variant-caps: normal\; font-weight: 400\; letter-spacing: normal\; orphans: 2\; text-align: start\; text-indent: 0px\; text-transform: none\; widows: 2\; word-spacing: 0px\; -webkit-text-stroke-width: 0px\; white-space: normal\; background-color: rgb(255\, 255\, 255)\; text-decoration-thickness: initial\; text-decoration-style: initial\; text-decoration-color: initial\;'><br></div><div style='margin: 0px\; box-sizing: border-box\; word-break: break-word\; color: rgb(0\, 0\, 0)\; font-family: "Source Sans 3"\, serif\; font-size: 14px\; font-style: normal\; font-variant-ligatures: normal\; font-variant-caps: normal\; font-weight: 400\; letter-spacing: normal\; orphans: 2\; text-align: start\; text-indent: 0px\; text-transform: none\; widows: 2\; word-spacing: 0px\; -webkit-text-stroke-width: 0px\; white-space: normal\; background-color: rgb(255\, 255\, 255)\; text-decoration-thickness: initial\; text-decoration-style: initial\; text-decoration-color: initial\;'><span style="font-size: 18px\;"><span style="margin: 0px\; box-sizing: border-box\; color: rgb(230\, 126\, 35)\;"><strong fr-original-style="margin: 0px\; box-sizing: border-box\;" style="margin: 0px\; box-sizing: border-box\; font-weight: 700\;">Registration Information:</strong></span><br style="margin: 0px\; box-sizing: border-box\;">A Zoom link will be sent to registered participants before the class begins.</span></div></body></html>
LOCATION:
UID:e.2512.1438909
SEQUENCE:3
DTSTAMP:20260424T193813Z
URL:https://members.rasem.realtor/event-calendar/Details/gri-301-technology-ce-6-1703108?sourceTypeId=Hub
END:VEVENT
END:VCALENDAR
