BEGIN:VCALENDAR
VERSION:2.0
PRODID:-//ChamberMaster//Event Calendar 2.0//EN
METHOD:PUBLISH
X-PUBLISHED-TTL:P1H
REFRESH-INTERVAL:P1H
CALSCALE:GREGORIAN
BEGIN:VTIMEZONE
TZID:America/New_York
BEGIN:DAYLIGHT
RRULE:FREQ=YEARLY;BYMONTH=3;BYDAY=2SU
DTSTART:20070101T000000
TZOFFSETFROM:-0500
TZOFFSETTO:-0400
TZNAME:Eastern Daylight Time
END:DAYLIGHT
BEGIN:STANDARD
RRULE:FREQ=YEARLY;BYMONTH=11;BYDAY=1SU
DTSTART:20070101T000000
TZOFFSETFROM:-0400
TZOFFSETTO:-0500
TZNAME:Eastern Standard Time
END:STANDARD
END:VTIMEZONE
BEGIN:VEVENT
DTSTART;TZID=America/New_York:20260723T100000
DTEND;TZID=America/New_York:20260723T120000
X-MICROSOFT-CDO-ALLDAYEVENT:FALSE
SUMMARY:Short Sales
DESCRIPTION:RE78R13: Short Sales | 2 CE Credits | Course Outline | Online CE GuidelinesEach Continuing Education shall require at a minimum of\, two hours of completion to receive Continuing Education Credit.Instructor: Bonnie Stiner
X-ALT-DESC;FMTTYPE=text/html:<!DOCTYPE html><html><head><title></title></head><body aria-disabled="false"><p style='box-sizing: border-box\; margin: 0px 0px 1rem\; color: rgb(51\, 51\, 51)\; font-family: "Fira Sans"\, sans-serif\; font-size: 16px\; font-style: normal\; font-variant-ligatures: normal\; font-variant-caps: normal\; font-weight: 400\; letter-spacing: normal\; orphans: 2\; text-align: start\; text-indent: 0px\; text-transform: none\; widows: 2\; word-spacing: 0px\; -webkit-text-stroke-width: 0px\; white-space: normal\; background-color: rgb(243\, 243\, 243)\; text-decoration-thickness: initial\; text-decoration-style: initial\; text-decoration-color: initial\;'><span style="color: rgb(0\, 0\, 0)\;">RE78R13: Short Sales | 2 CE Credits | <a fr-original-style="user-select: auto\;" href="https://www.mass.gov/info-details/re78r13-short-sales-0" rel="noopener noreferrer" style="user-select: auto\; color: inherit\;" target="_blank"><strong fr-original-style="" style="font-weight: 700\;">Course Outline</strong></a> | <a fr-original-style="user-select: auto\;" href="https://realtorassociationofsoutheasternmassachusetts.growthzoneapp.com/ap/CloudFile/Download/P3Jy3W3p" rel="noopener noreferrer" style="user-select: auto\; color: inherit\;" target="_blank"><strong fr-original-style="" style="font-weight: 700\;">Online CE Guidelines</strong></a></span></p><p style='box-sizing: border-box\; margin: 0px 0px 1rem\; color: rgb(51\, 51\, 51)\; font-family: "Fira Sans"\, sans-serif\; font-size: 16px\; font-style: normal\; font-variant-ligatures: normal\; font-variant-caps: normal\; font-weight: 400\; letter-spacing: normal\; orphans: 2\; text-align: start\; text-indent: 0px\; text-transform: none\; widows: 2\; word-spacing: 0px\; -webkit-text-stroke-width: 0px\; white-space: normal\; background-color: rgb(243\, 243\, 243)\; text-decoration-thickness: initial\; text-decoration-style: initial\; text-decoration-color: initial\;'><span style="color: rgb(0\, 0\, 0)\;">Each Continuing Education shall require at a minimum of\, two hours of completion to receive Continuing Education Credit.</span></p><p style='box-sizing: border-box\; margin: 0px 0px 1rem\; color: rgb(51\, 51\, 51)\; font-family: "Fira Sans"\, sans-serif\; font-size: 16px\; font-style: normal\; font-variant-ligatures: normal\; font-variant-caps: normal\; font-weight: 400\; letter-spacing: normal\; orphans: 2\; text-align: start\; text-indent: 0px\; text-transform: none\; widows: 2\; word-spacing: 0px\; -webkit-text-stroke-width: 0px\; white-space: normal\; background-color: rgb(243\, 243\, 243)\; text-decoration-thickness: initial\; text-decoration-style: initial\; text-decoration-color: initial\;'><span style="color: rgb(0\, 0\, 0)\;">Instructor: Bonnie Stiner</span></p></body></html>
LOCATION:Zoom 22 Sherwood Drive Taunton MA 02780
UID:e.2512.1450011
SEQUENCE:3
DTSTAMP:20260424T194338Z
URL:https://members.rasem.realtor/event-calendar/Details/short-sales-1717588?sourceTypeId=Hub
END:VEVENT
END:VCALENDAR
