BEGIN:VCALENDAR
VERSION:2.0
PRODID:-//ChamberMaster//Event Calendar 2.0//EN
METHOD:PUBLISH
X-PUBLISHED-TTL:P1H
REFRESH-INTERVAL:P1H
CALSCALE:GREGORIAN
BEGIN:VTIMEZONE
TZID:America/New_York
BEGIN:DAYLIGHT
RRULE:FREQ=YEARLY;BYMONTH=3;BYDAY=2SU
DTSTART:20070101T000000
TZOFFSETFROM:-0500
TZOFFSETTO:-0400
TZNAME:Eastern Daylight Time
END:DAYLIGHT
BEGIN:STANDARD
RRULE:FREQ=YEARLY;BYMONTH=11;BYDAY=1SU
DTSTART:20070101T000000
TZOFFSETFROM:-0400
TZOFFSETTO:-0500
TZNAME:Eastern Standard Time
END:STANDARD
END:VTIMEZONE
BEGIN:VEVENT
DTSTART;TZID=America/New_York:20260715T090000
DTEND;TZID=America/New_York:20260715T110000
X-MICROSOFT-CDO-ALLDAYEVENT:FALSE
SUMMARY:Short Term Residential Vacation Rental
DESCRIPTION:RE109R25: Short Term Residential Vacation Rental | 2 CE Credits | Course Outline | Online CE GuidelinesObjective: This class will define the role of the real estate broker and agent in short-term vacation rentals in Massachusetts and will explore the federal\, state and local responsibilities owed to the consumer (owner\, tenant\, guest)Each Continuing Education shall require at a minimum of\, two hours of completion to receive Continuing Education Credit.Instructor: Kate Lanagan MacGregor
X-ALT-DESC;FMTTYPE=text/html:<!DOCTYPE html><html><head><title></title></head><body aria-disabled="false"><p>RE109R25: Short Term Residential Vacation Rental | 2 CE Credits | <a fr-original-style="" href="https://www.mass.gov/info-details/re109r25-short-term-residential-vacation-rental" rel="noopener noreferrer" style="user-select: auto\;" target="_blank">Course Outline</a> | <a fr-original-style="" href="https://realtorassociationofsoutheasternmassachusetts.growthzoneapp.com/ap/CloudFile/Download/P3Jy3W3p" rel="noopener noreferrer" style="user-select: auto\;" target="_blank">Online CE Guidelines</a></p><p><strong fr-original-style="" style="font-weight: 700\;">Objective:&nbsp\;</strong>This class will define the role of the real estate broker and agent in short-term vacation rentals in Massachusetts and will explore the federal\, state and local responsibilities owed to the consumer (owner\, tenant\, guest)</p><p>Each Continuing Education shall require at a minimum of\, two hours of completion to receive Continuing Education Credit.</p><p>Instructor: Kate Lanagan MacGregor</p></body></html>
LOCATION:Zoom 651 Orchard Street\, Suite 101 New Bedford MA 02744
UID:e.2512.1448299
SEQUENCE:3
DTSTAMP:20260424T193647Z
URL:https://members.rasem.realtor/event-calendar/Details/short-term-residential-vacation-rental-1715299?sourceTypeId=Hub
END:VEVENT
END:VCALENDAR
