BEGIN:VCALENDAR
VERSION:2.0
PRODID:-//ChamberMaster//Event Calendar 2.0//EN
METHOD:PUBLISH
X-PUBLISHED-TTL:P1H
REFRESH-INTERVAL:P1H
CALSCALE:GREGORIAN
BEGIN:VTIMEZONE
TZID:America/New_York
BEGIN:DAYLIGHT
RRULE:FREQ=YEARLY;BYMONTH=3;BYDAY=2SU
DTSTART:20070101T000000
TZOFFSETFROM:-0500
TZOFFSETTO:-0400
TZNAME:Eastern Daylight Time
END:DAYLIGHT
BEGIN:STANDARD
RRULE:FREQ=YEARLY;BYMONTH=11;BYDAY=1SU
DTSTART:20070101T000000
TZOFFSETFROM:-0400
TZOFFSETTO:-0500
TZNAME:Eastern Standard Time
END:STANDARD
END:VTIMEZONE
BEGIN:VEVENT
DTSTART;TZID=America/New_York:20260812T100000
DTEND;TZID=America/New_York:20260812T120000
X-MICROSOFT-CDO-ALLDAYEVENT:FALSE
SUMMARY:Title 5
DESCRIPTION:RE22RC25: Title 5 | 2 CE Credits | Online CE Guidelines | Course OutlineThis class is being held hybrid: in-person at 22 Sherwood Drive and via ZoomObjective:This continuing education unit goes over Title 5\, definitions of systems and components\, the history of Title 5 regulations\, impact of the NSA (NitrogenSensitive Area) legislation\, Title 5 inspections and more.Each Continuing Education shall require at a minimum of\, two hours of completion to receive Continuing Education Credit. According to MA Licensing Regulations\, you must be present for the entire two hours to earn credit.\nInstructor: Nicole PlanteNicole Cloutier Plante is local to the south coast of Massachusetts having been born and raised in Westport\, and attending Bishop Stang High School in Dartmouth. A 1993 graduate of Bryant University with a degree in Business Administration and concentration in Accounting\, Nicole moved to Georgia. Finding her path she got into commission in sales in the food service industry and was one of the top in her field in her 20's. Ten years later she decided it was time to come back to her roots\, but upon her return in 2001\, as she looked for a home\, she realized that most realtors were looking out for their own interest and that of the seller. Nicole took it upon herself to go directly to the registry of deeds\, town halls\, conservation\, home inspectors\, lawyers\, and mortgage brokers. With this experience\, Nicole was inspired to get her real estate license\, worked for a small office for a couple of years\, got her Brokers License and then established Even Keel Realty in 2005. She was not satisfied with stopping there and went on to become an ABR (Accredited Buyers Representative)\, GRI (Graduate\, REALTOR Institute)\, C2EX\, and ITI. She has built her company on the basis of full customer service and complete disclosure. Since then she has developed a remarkable reputation among both clients and peers. The company slogan\, "How Are YOU Represented?" displays her unmatched devotion to her customers. Meeting and exceeding her client's expectations\, Nicole works tirelessly communicating the details and personally sells over $20+ million a year in Massachusetts and Rhode Island.Because Nicole has the experience of raising two children as a single mom\, gone through a divorce\, health issues and much more\, she feels like she can be real with the client in front of her. Helping the person or people in front of you is all about the details\, she is an excellent listener and teacher. She wants to spread her knowledge so that buyers and sellers alike may be represented by educated real estate agents and be satisfied with their largest investment - their home.Outside of her business endeavors\, Nicole is spirited in giving back to her community. She has served on the local board of Realtors as a Board of Directors member\, gives to local charities and nonprofits\, helps families in need\, has served on the Dartmouth Youth Advocate Commission\, and partners with local schools internship programs to shape the future generation.
X-ALT-DESC;FMTTYPE=text/html:<!DOCTYPE html><html><head><title></title></head><body aria-disabled="false"><p><span style="font-size: 14px\;"><span style="font-family: Arial\, Helvetica\, sans-serif\;"><strong fr-original-style="" style="font-weight: 700\;">RE22RC25:&nbsp\;</strong>Title 5</span><span style="font-family: Arial\,Helvetica\,sans-serif\;">&nbsp\;| 2 CE Credits | <a fr-original-style="" href="https://realtorassociationofsoutheasternmassachusetts.growthzoneapp.com/api/files/download/5981683/?open=true" rel="noopener noreferrer" style="user-select: auto\;" target="_blank">Online CE Guidelines</a> | <a fr-original-style="" href="https://www.mass.gov/info-details/re22rc25-title-5" rel="noopener noreferrer" style="user-select: auto\;" target="_blank">Course Outline</a></span></span></p><p><span style="font-size: 14px\;"><span style="font-family: Arial\,Helvetica\,sans-serif\;"><strong fr-original-style="" style="font-weight: 700\;"><em>This class is being held hybrid: in-person at 22 Sherwood Drive and via Zoom</em></strong></span></span></p><p><span style="font-size: 14px\;"><span style="font-family: Arial\,Helvetica\,sans-serif\;"><u><strong fr-original-style="" style="font-weight: 700\;">Objective:</strong></u></span></span></p><p><span style="font-size: 14px\;"><span style="font-family: Arial\,Helvetica\,sans-serif\;">This continuing education unit goes over Title 5\, definitions of systems and components\, the history of Title 5 regulations\, impact of the NSA (NitrogenSensitive Area) legislation\, Title 5 inspections and more.</span></span></p><p><span style="font-size: 12px\;"><span style="font-family: Arial\,Helvetica\,sans-serif\;"><strong fr-original-style="" style="font-weight: 700\;"><em>Each Continuing Education shall require at a minimum of\, two hours of completion to receive Continuing Education Credit. According to MA Licensing Regulations\, you must be present for the entire two hours to earn credit.</em></strong></span></span><strong fr-original-style="" style="font-weight: 700\;"><em><span style="font-size: 12px\;"><br></span></em></strong></p><p><span style="font-size: 14px\;"><span style="font-family: Arial\,Helvetica\,sans-serif\;"><strong fr-original-style="" style="font-weight: 700\;">Instructor:</strong> Nicole Plante</span></span></p><p style='color: rgb(0\, 0\, 0)\; font-family: "Times New Roman"\; font-size: medium\; font-style: normal\; font-variant-ligatures: normal\; font-variant-caps: normal\; font-weight: 400\; letter-spacing: normal\; orphans: 2\; text-align: start\; text-indent: 0px\; text-transform: none\; widows: 2\; word-spacing: 0px\; -webkit-text-stroke-width: 0px\; white-space: normal\; text-decoration-thickness: initial\; text-decoration-style: initial\; text-decoration-color: initial\;'>Nicole Cloutier Plante is local to the south coast of Massachusetts having been born and raised in Westport\, and attending Bishop Stang High School in Dartmouth. A 1993 graduate of Bryant University with a degree in Business Administration and concentration in Accounting\, Nicole moved to Georgia. Finding her path she got into commission in sales in the food service industry and was one of the top in her field in her 20&rsquo\;s. Ten years later she decided it was time to come back to her roots\, but upon her return in 2001\, as she looked for a home\, she realized that most realtors were looking out for their own interest and that of the seller. Nicole took it upon herself to go directly to the registry of deeds\, town halls\, conservation\, home inspectors\, lawyers\, and mortgage brokers. With this experience\, Nicole was inspired to get her real estate license\, worked for a small office for a couple of years\, got her Brokers License and then established Even Keel Realty in 2005. She was not satisfied with stopping there and went on to become an ABR (Accredited Buyers Representative)\, GRI (Graduate\, REALTOR Institute)\, C2EX\, and ITI. She has built her company on the basis of full customer service and complete disclosure. Since then she has developed a remarkable reputation among both clients and peers. The company slogan\, &ldquo\;How Are YOU Represented?&rdquo\; displays her unmatched devotion to her customers. Meeting and exceeding her client&rsquo\;s expectations\, Nicole works tirelessly communicating the details and personally sells over $20+ million a year in Massachusetts and Rhode Island.</p><p style='color: rgb(0\, 0\, 0)\; font-family: "Times New Roman"\; font-size: medium\; font-style: normal\; font-variant-ligatures: normal\; font-variant-caps: normal\; font-weight: 400\; letter-spacing: normal\; orphans: 2\; text-align: start\; text-indent: 0px\; text-transform: none\; widows: 2\; word-spacing: 0px\; -webkit-text-stroke-width: 0px\; white-space: normal\; text-decoration-thickness: initial\; text-decoration-style: initial\; text-decoration-color: initial\;'>Because Nicole has the experience of raising two children as a single mom\, gone through a divorce\, health issues and much more\, she feels like she can be real with the client in front of her. Helping the person or people in front of you is all about the details\, she is an excellent listener and teacher. She wants to spread her knowledge so that buyers and sellers alike may be represented by educated real estate agents and be satisfied with their largest investment - their home.</p><p style='color: rgb(0\, 0\, 0)\; font-family: "Times New Roman"\; font-size: medium\; font-style: normal\; font-variant-ligatures: normal\; font-variant-caps: normal\; font-weight: 400\; letter-spacing: normal\; orphans: 2\; text-align: start\; text-indent: 0px\; text-transform: none\; widows: 2\; word-spacing: 0px\; -webkit-text-stroke-width: 0px\; white-space: normal\; text-decoration-thickness: initial\; text-decoration-style: initial\; text-decoration-color: initial\;'>Outside of her business endeavors\, Nicole is spirited in giving back to her community. She has served on the local board of Realtors as a Board of Directors member\, gives to local charities and nonprofits\, helps families in need\, has served on the Dartmouth Youth Advocate Commission\, and partners with local schools internship programs to shape the future generation.</p></body></html>
LOCATION:Zoom 22 Sherwood Drive Taunton MA 02780
UID:e.2512.1449958
SEQUENCE:3
DTSTAMP:20260424T194339Z
URL:https://members.rasem.realtor/event-calendar/Details/title-5-1717528?sourceTypeId=Hub
END:VEVENT
END:VCALENDAR
